BEGIN:VCALENDAR
VERSION:2.0
PRODID:-//eventon.com NONSGML v1.0//EN
CALSCALE:GREGORIAN
METHOD:PUBLISH
BEGIN:VEVENT
UID:69e7607a808b5
DTSTAMP:20260421T113314Z
DTSTART:20260802T010000Z
DTEND:20260809T053000Z
LOCATION:Peninsula Gourmet Cooking School 2/34 Brasser Avenue\,  Dromana\,  Victoria
SUMMARY:2 Day Pottery Workshop - Stamps\,  Stencils and Rollers!
DESCRIPTION:Single Post DETAILS LOCATION Restaurant PEOPLE Max. 5 People ME
 NU A la carte TIMING 11:00 - 14:00 Morbi malesuada imperdiet imperdiet. Viv
 amus volutpat eros pulvinar velit laoreet\,  sit amet egestas erat dignissi
 m. Sed quis rutrum tellus\,  sit amet viverra felis. Cras sagittis sem sit 
 amet urna feugiat rutrum. Nam nulla[..]\nhttps://peninsulagourmetcookingsch
 ool.com.au/events/pottery-hand-building-101/
URL:https://peninsulagourmetcookingschool.com.au/events/pottery-hand-building-101/
END:VEVENT
END:VCALENDAR