BEGIN:VCALENDAR
VERSION:2.0
PRODID:-//eventon.com NONSGML v1.0//EN
CALSCALE:GREGORIAN
METHOD:PUBLISH
BEGIN:VEVENT
UID:69e760bc6dbee
DTSTAMP:20260421T113420Z
DTSTART:20261129T000000Z
DTEND:20261129T033000Z
LOCATION:Peninsula Gourmet Cooking School 2/34 Brasser Avenue\,  Dromana\,  Victoria
SUMMARY:Summer Xmas Seafood  Class - 5 places available
DESCRIPTION:Single Post DETAILS LOCATION Restaurant PEOPLE Max. 5 People ME
 NU A la carte TIMING 11:00 - 14:00 Morbi malesuada imperdiet imperdiet. Viv
 amus volutpat eros pulvinar velit laoreet\,  sit amet egestas erat dignissi
 m. Sed quis rutrum tellus\,  sit amet viverra felis. Cras sagittis sem sit 
 amet urna feugiat rutrum. Nam nulla[..]\nhttps://peninsulagourmetcookingsch
 ool.com.au/events/summer-xmas-seafood-class-4-places-remaining/
URL:https://peninsulagourmetcookingschool.com.au/events/summer-xmas-seafood-class-4-places-remaining/
END:VEVENT
END:VCALENDAR