BEGIN:VCALENDAR
VERSION:2.0
PRODID:-//eventon.com NONSGML v1.0//EN
CALSCALE:GREGORIAN
METHOD:PUBLISH
BEGIN:VEVENT
UID:69eb9f5573bde
DTSTAMP:20260424T165029Z
DTSTART:20250315T120000Z
DTEND:20250315T043000Z
LOCATION:Peninsula Gourmet Cooking School 2/34 Brasser Avenue\,  Dromana\,  Victoria
SUMMARY:Cheese Making  - FULLY BOOKED!
DESCRIPTION:Single Post DETAILS LOCATION Restaurant PEOPLE Max. 5 People ME
 NU A la carte TIMING 11:00 - 14:00 Morbi malesuada imperdiet imperdiet. Viv
 amus volutpat eros pulvinar velit laoreet\,  sit amet egestas erat dignissi
 m. Sed quis rutrum tellus\,  sit amet viverra felis. Cras sagittis sem sit 
 amet urna feugiat rutrum. Nam nulla[..]\nhttps://peninsulagourmetcookingsch
 ool.com.au/events/cheese-making-5-places-remaining/
URL:https://peninsulagourmetcookingschool.com.au/events/cheese-making-5-places-remaining/
END:VEVENT
END:VCALENDAR